BEGIN:VCALENDAR
VERSION:2.0
PRODID:-//LHOOSK’UZ DENÉ NATION - ECPv6.15.20//NONSGML v1.0//EN
CALSCALE:GREGORIAN
METHOD:PUBLISH
X-ORIGINAL-URL:https://lhooskuz.com
X-WR-CALDESC:Events for LHOOSK’UZ DENÉ NATION
REFRESH-INTERVAL;VALUE=DURATION:PT1H
X-Robots-Tag:noindex
X-PUBLISHED-TTL:PT1H
BEGIN:VTIMEZONE
TZID:America/Vancouver
BEGIN:DAYLIGHT
TZOFFSETFROM:-0800
TZOFFSETTO:-0700
TZNAME:PDT
DTSTART:20250309T100000
END:DAYLIGHT
BEGIN:STANDARD
TZOFFSETFROM:-0700
TZOFFSETTO:-0800
TZNAME:PST
DTSTART:20251102T090000
END:STANDARD
BEGIN:DAYLIGHT
TZOFFSETFROM:-0800
TZOFFSETTO:-0700
TZNAME:PDT
DTSTART:20260308T100000
END:DAYLIGHT
BEGIN:STANDARD
TZOFFSETFROM:-0700
TZOFFSETTO:-0800
TZNAME:PST
DTSTART:20261101T090000
END:STANDARD
BEGIN:DAYLIGHT
TZOFFSETFROM:-0800
TZOFFSETTO:-0700
TZNAME:PDT
DTSTART:20270314T100000
END:DAYLIGHT
BEGIN:STANDARD
TZOFFSETFROM:-0700
TZOFFSETTO:-0800
TZNAME:PST
DTSTART:20271107T090000
END:STANDARD
END:VTIMEZONE
BEGIN:VEVENT
DTSTART;TZID=America/Vancouver:20260502T083000
DTEND;TZID=America/Vancouver:20260503T203000
DTSTAMP:20260421T013229
CREATED:20260210T175908Z
LAST-MODIFIED:20260305T203311Z
UID:3808-1777710600-1777840200@lhooskuz.com
SUMMARY:Weekend On-Call Staff May 2-3
DESCRIPTION:Your on-call contact this weekend is: Jamie\nIn case of an emergency on the weekends\, please call our Weekend Emergency Line: 250-255-2310. The staff member on call will be able to assist you. \nPlease note: the specific person on call may change unexpectedly\, but someone is always available to respond. \nAvailability: Saturday 8:30 a.m. – Sunday 8:30 p.m. \nWhat counts as an emergency: \n\nImmediate health crises\, such as needing to go to the hospital\nRisk of harm to yourself or others\nSupport in the event of a death\nUrgent safety concerns affecting the community\, such as a fire or other immediate danger\n\nImportant: This service is for emergencies only. For non-urgent inquiries\, please contact us during regular business hours.
URL:https://lhooskuz.com/event/weekend-on-call-staff-may-2-3/
CATEGORIES:Weekend On-Call Staff
ATTACH;FMTTYPE=image/png:https://lhooskuz.com/wp-content/uploads/2026/02/7.png
END:VEVENT
BEGIN:VEVENT
DTSTART;TZID=America/Vancouver:20260509T083000
DTEND;TZID=America/Vancouver:20260510T203000
DTSTAMP:20260421T013229
CREATED:20260210T180044Z
LAST-MODIFIED:20260305T203251Z
UID:3811-1778315400-1778445000@lhooskuz.com
SUMMARY:Weekend On-Call Staff May 9-10
DESCRIPTION:Your on-call contact this weekend is: Jenn\nIn case of an emergency on the weekends\, please call our Weekend Emergency Line: 250-255-2310. The staff member on call will be able to assist you. \nPlease note: the specific person on call may change unexpectedly\, but someone is always available to respond. \nAvailability: Saturday 8:30 a.m. – Sunday 8:30 p.m. \nWhat counts as an emergency: \n\nImmediate health crises\, such as needing to go to the hospital\nRisk of harm to yourself or others\nSupport in the event of a death\nUrgent safety concerns affecting the community\, such as a fire or other immediate danger\n\nImportant: This service is for emergencies only. For non-urgent inquiries\, please contact us during regular business hours.
URL:https://lhooskuz.com/event/weekend-on-call-staff-may-9-10/
CATEGORIES:Weekend On-Call Staff
ATTACH;FMTTYPE=image/png:https://lhooskuz.com/wp-content/uploads/2026/02/6.png
END:VEVENT
BEGIN:VEVENT
DTSTART;TZID=America/Vancouver:20260516T083000
DTEND;TZID=America/Vancouver:20260517T203000
DTSTAMP:20260421T013229
CREATED:20260210T182758Z
LAST-MODIFIED:20260305T203232Z
UID:3817-1778920200-1779049800@lhooskuz.com
SUMMARY:Weekend On-Call Staff May 16-17
DESCRIPTION:Your on-call contact this weekend is: Trish\nIn case of an emergency on the weekends\, please call our Weekend Emergency Line: 250-255-2310. The staff member on call will be able to assist you. \nPlease note: the specific person on call may change unexpectedly\, but someone is always available to respond. \nAvailability: Saturday 8:30 a.m. – Sunday 8:30 p.m. \nWhat counts as an emergency: \n\nImmediate health crises\, such as needing to go to the hospital\nRisk of harm to yourself or others\nSupport in the event of a death\nUrgent safety concerns affecting the community\, such as a fire or other immediate danger\n\nImportant: This service is for emergencies only. For non-urgent inquiries\, please contact us during regular business hours.
URL:https://lhooskuz.com/event/weekend-on-call-staff-may-16-17/
CATEGORIES:Weekend On-Call Staff
ATTACH;FMTTYPE=image/png:https://lhooskuz.com/wp-content/uploads/2026/02/5.png
END:VEVENT
BEGIN:VEVENT
DTSTART;TZID=America/Vancouver:20260523T083000
DTEND;TZID=America/Vancouver:20260524T203000
DTSTAMP:20260421T013229
CREATED:20260210T182911Z
LAST-MODIFIED:20260305T203213Z
UID:3820-1779525000-1779654600@lhooskuz.com
SUMMARY:Weekend On-Call Staff May 23-24
DESCRIPTION:Your on-call contact this weekend is: Raven\nIn case of an emergency on the weekends\, please call our Weekend Emergency Line: 250-255-2310. The staff member on call will be able to assist you. \nPlease note: the specific person on call may change unexpectedly\, but someone is always available to respond. \nAvailability: Saturday 8:30 a.m. – Sunday 8:30 p.m. \nWhat counts as an emergency: \n\nImmediate health crises\, such as needing to go to the hospital\nRisk of harm to yourself or others\nSupport in the event of a death\nUrgent safety concerns affecting the community\, such as a fire or other immediate danger\n\nImportant: This service is for emergencies only. For non-urgent inquiries\, please contact us during regular business hours.
URL:https://lhooskuz.com/event/weekend-on-call-staff-may-23-24/
CATEGORIES:Weekend On-Call Staff
ATTACH;FMTTYPE=image/png:https://lhooskuz.com/wp-content/uploads/2026/02/3.png
END:VEVENT
BEGIN:VEVENT
DTSTART;TZID=America/Vancouver:20260530T083000
DTEND;TZID=America/Vancouver:20260531T203000
DTSTAMP:20260421T013229
CREATED:20260210T183249Z
LAST-MODIFIED:20260305T203153Z
UID:3823-1780129800-1780259400@lhooskuz.com
SUMMARY:Weekend On-Call Staff May 30-31
DESCRIPTION:Your on-call contact this weekend is: Jackie\nIn case of an emergency on the weekends\, please call our Weekend Emergency Line: 250-255-2310. The staff member on call will be able to assist you. \nPlease note: the specific person on call may change unexpectedly\, but someone is always available to respond. \nAvailability: Saturday 8:30 a.m. – Sunday 8:30 p.m. \nWhat counts as an emergency: \n\nImmediate health crises\, such as needing to go to the hospital\nRisk of harm to yourself or others\nSupport in the event of a death\nUrgent safety concerns affecting the community\, such as a fire or other immediate danger\n\nImportant: This service is for emergencies only. For non-urgent inquiries\, please contact us during regular business hours.
URL:https://lhooskuz.com/event/weekend-on-call-staff-may-30-31/
CATEGORIES:Weekend On-Call Staff
ATTACH;FMTTYPE=image/png:https://lhooskuz.com/wp-content/uploads/2026/02/8.png
END:VEVENT
END:VCALENDAR