BEGIN:VCALENDAR
VERSION:2.0
PRODID:-//LHOOSK’UZ DENÉ NATION - ECPv6.15.20//NONSGML v1.0//EN
CALSCALE:GREGORIAN
METHOD:PUBLISH
X-ORIGINAL-URL:https://lhooskuz.com
X-WR-CALDESC:Events for LHOOSK’UZ DENÉ NATION
REFRESH-INTERVAL;VALUE=DURATION:PT1H
X-Robots-Tag:noindex
X-PUBLISHED-TTL:PT1H
BEGIN:VTIMEZONE
TZID:America/Vancouver
BEGIN:DAYLIGHT
TZOFFSETFROM:-0800
TZOFFSETTO:-0700
TZNAME:PDT
DTSTART:20250309T100000
END:DAYLIGHT
BEGIN:STANDARD
TZOFFSETFROM:-0700
TZOFFSETTO:-0800
TZNAME:PST
DTSTART:20251102T090000
END:STANDARD
BEGIN:DAYLIGHT
TZOFFSETFROM:-0800
TZOFFSETTO:-0700
TZNAME:PDT
DTSTART:20260308T100000
END:DAYLIGHT
BEGIN:STANDARD
TZOFFSETFROM:-0700
TZOFFSETTO:-0800
TZNAME:PST
DTSTART:20261101T090000
END:STANDARD
BEGIN:DAYLIGHT
TZOFFSETFROM:-0800
TZOFFSETTO:-0700
TZNAME:PDT
DTSTART:20270314T100000
END:DAYLIGHT
BEGIN:STANDARD
TZOFFSETFROM:-0700
TZOFFSETTO:-0800
TZNAME:PST
DTSTART:20271107T090000
END:STANDARD
END:VTIMEZONE
BEGIN:VEVENT
DTSTART;TZID=America/Vancouver:20260214T083000
DTEND;TZID=America/Vancouver:20260215T203000
DTSTAMP:20260423T032305
CREATED:20260210T003025Z
LAST-MODIFIED:20260210T174203Z
UID:3756-1771057800-1771187400@lhooskuz.com
SUMMARY:Weekend On-Call Staff Feb. 14-15
DESCRIPTION:Your on-call contact this weekend is: Raven\nIn case of an emergency on the weekends\, please call our Weekend Emergency Line: (250) 255-3210. The staff member on call will be able to assist you. \nPlease note: the specific person on call may change unexpectedly\, but someone is always available to respond. \nAvailability: Saturday 8:30 a.m. – Sunday 8:30 p.m. \nWhat counts as an emergency: \n\nImmediate health crises\, such as needing to go to the hospital\nRisk of harm to yourself or others\nSupport in the event of a death\nUrgent safety concerns affecting the community\, such as a fire or other immediate danger\n\nImportant: This service is for emergencies only. For non-urgent inquiries\, please contact us during regular business hours.
URL:https://lhooskuz.com/event/oncall/
CATEGORIES:Weekend On-Call Staff
ATTACH;FMTTYPE=image/png:https://lhooskuz.com/wp-content/uploads/2026/02/3.png
END:VEVENT
BEGIN:VEVENT
DTSTART;TZID=America/Vancouver:20260221T083000
DTEND;TZID=America/Vancouver:20260222T203000
DTSTAMP:20260423T032305
CREATED:20260210T004150Z
LAST-MODIFIED:20260210T174142Z
UID:3769-1771662600-1771792200@lhooskuz.com
SUMMARY:Weekend On-Call Staff Feb. 21-22
DESCRIPTION:Your on-call contact this weekend is: Trish\nIn case of an emergency on the weekends\, please call our Weekend Emergency Line: (250) 255-3210. The staff member on call will be able to assist you. \nPlease note: the specific person on call may change unexpectedly\, but someone is always available to respond. \nAvailability: Saturday 8:30 a.m. – Sunday 8:30 p.m. \nWhat counts as an emergency: \n\nImmediate health crises\, such as needing to go to the hospital\nRisk of harm to yourself or others\nSupport in the event of a death\nUrgent safety concerns affecting the community\, such as a fire or other immediate danger\n\nImportant: This service is for emergencies only. For non-urgent inquiries\, please contact us during regular business hours.
URL:https://lhooskuz.com/event/weekend-on-call-staff-feb-21-22/
CATEGORIES:Weekend On-Call Staff
ATTACH;FMTTYPE=image/png:https://lhooskuz.com/wp-content/uploads/2026/02/5.png
END:VEVENT
BEGIN:VEVENT
DTSTART;TZID=America/Vancouver:20260228T083000
DTEND;TZID=America/Vancouver:20260301T203000
DTSTAMP:20260423T032305
CREATED:20260210T005636Z
LAST-MODIFIED:20260210T174121Z
UID:3772-1772267400-1772397000@lhooskuz.com
SUMMARY:Weekend On-Call Staff Feb. 28-March 1
DESCRIPTION:Your on-call contact this weekend is: Jenn\nIn case of an emergency on the weekends\, please call our Weekend Emergency Line: (250) 255-3210. The staff member on call will be able to assist you. \nPlease note: the specific person on call may change unexpectedly\, but someone is always available to respond. \nAvailability: Saturday 8:30 a.m. – Sunday 8:30 p.m. \nWhat counts as an emergency: \n\nImmediate health crises\, such as needing to go to the hospital\nRisk of harm to yourself or others\nSupport in the event of a death\nUrgent safety concerns affecting the community\, such as a fire or other immediate danger\n\nImportant: This service is for emergencies only. For non-urgent inquiries\, please contact us during regular business hours.
URL:https://lhooskuz.com/event/weekend-on-call-staff-feb-28-march-1/
CATEGORIES:Weekend On-Call Staff
ATTACH;FMTTYPE=image/png:https://lhooskuz.com/wp-content/uploads/2026/02/6.png
END:VEVENT
END:VCALENDAR