BEGIN:VCALENDAR
VERSION:2.0
PRODID:-//LHOOSK’UZ DENÉ NATION - ECPv6.15.20//NONSGML v1.0//EN
CALSCALE:GREGORIAN
METHOD:PUBLISH
X-ORIGINAL-URL:https://lhooskuz.com
X-WR-CALDESC:Events for LHOOSK’UZ DENÉ NATION
REFRESH-INTERVAL;VALUE=DURATION:PT1H
X-Robots-Tag:noindex
X-PUBLISHED-TTL:PT1H
BEGIN:VTIMEZONE
TZID:America/Vancouver
BEGIN:DAYLIGHT
TZOFFSETFROM:-0800
TZOFFSETTO:-0700
TZNAME:PDT
DTSTART:20250309T100000
END:DAYLIGHT
BEGIN:STANDARD
TZOFFSETFROM:-0700
TZOFFSETTO:-0800
TZNAME:PST
DTSTART:20251102T090000
END:STANDARD
BEGIN:DAYLIGHT
TZOFFSETFROM:-0800
TZOFFSETTO:-0700
TZNAME:PDT
DTSTART:20260308T100000
END:DAYLIGHT
BEGIN:STANDARD
TZOFFSETFROM:-0700
TZOFFSETTO:-0800
TZNAME:PST
DTSTART:20261101T090000
END:STANDARD
BEGIN:DAYLIGHT
TZOFFSETFROM:-0800
TZOFFSETTO:-0700
TZNAME:PDT
DTSTART:20270314T100000
END:DAYLIGHT
BEGIN:STANDARD
TZOFFSETFROM:-0700
TZOFFSETTO:-0800
TZNAME:PST
DTSTART:20271107T090000
END:STANDARD
END:VTIMEZONE
BEGIN:VEVENT
DTSTART;TZID=America/Vancouver:20260226T000000
DTEND;TZID=America/Vancouver:20260226T235959
DTSTAMP:20260421T030151
CREATED:20260126T183920Z
LAST-MODIFIED:20260309T212259Z
UID:3368-1772064000-1772150399@lhooskuz.com
SUMMARY:Diabetes and Elderly Foot Care
DESCRIPTION:Diabetes and Elder Foot Care Appointments Available\nWe’re pleased to offer upcoming foot care clinics focused on Diabetes and Elderly Foot Care with Genti Page\, owner of Quesnel Foot Care. \nAppointment Dates: \n\nFebruary 26\nMarch 26\n\nTaking care of your feet is especially important for those living with diabetes and for our Elders. Regular foot care can help prevent complications and keep you comfortable and mobile. \nTo book an appointment\, please contact Jacqueline at 250-992-3290.\nSpaces may be limited\, so be sure to call and reserve your spot!
URL:https://lhooskuz.com/event/diabetes-and-elderly-foot-care/
CATEGORIES:Health
ATTACH;FMTTYPE=image/png:https://lhooskuz.com/wp-content/uploads/2026/01/LDN-Foot-Care.png
END:VEVENT
END:VCALENDAR