BEGIN:VCALENDAR
VERSION:2.0
PRODID:-//LHOOSK’UZ DENÉ NATION - ECPv6.15.20//NONSGML v1.0//EN
CALSCALE:GREGORIAN
METHOD:PUBLISH
X-WR-CALNAME:LHOOSK’UZ DENÉ NATION
X-ORIGINAL-URL:https://lhooskuz.com
X-WR-CALDESC:Events for LHOOSK’UZ DENÉ NATION
REFRESH-INTERVAL;VALUE=DURATION:PT1H
X-Robots-Tag:noindex
X-PUBLISHED-TTL:PT1H
BEGIN:VTIMEZONE
TZID:America/Vancouver
BEGIN:DAYLIGHT
TZOFFSETFROM:-0800
TZOFFSETTO:-0700
TZNAME:PDT
DTSTART:20250309T100000
END:DAYLIGHT
BEGIN:STANDARD
TZOFFSETFROM:-0700
TZOFFSETTO:-0800
TZNAME:PST
DTSTART:20251102T090000
END:STANDARD
BEGIN:DAYLIGHT
TZOFFSETFROM:-0800
TZOFFSETTO:-0700
TZNAME:PDT
DTSTART:20260308T100000
END:DAYLIGHT
BEGIN:STANDARD
TZOFFSETFROM:-0700
TZOFFSETTO:-0800
TZNAME:PST
DTSTART:20261101T090000
END:STANDARD
BEGIN:DAYLIGHT
TZOFFSETFROM:-0800
TZOFFSETTO:-0700
TZNAME:PDT
DTSTART:20270314T100000
END:DAYLIGHT
BEGIN:STANDARD
TZOFFSETFROM:-0700
TZOFFSETTO:-0800
TZNAME:PST
DTSTART:20271107T090000
END:STANDARD
END:VTIMEZONE
BEGIN:VEVENT
DTSTART;TZID=America/Vancouver:20260429T100000
DTEND;TZID=America/Vancouver:20260429T163000
DTSTAMP:20260425T034808
CREATED:20260410T214813Z
LAST-MODIFIED:20260410T231640Z
UID:4395-1777456800-1777480200@lhooskuz.com
SUMMARY:Childcare Engagement Session – Parents & Make-Up Session
DESCRIPTION:Date: April 29Location: Band Office \nThis session focuses on parents and caregivers\, with an additional opportunity for anyone who missed earlier sessions to participate. \nSchedule: \n\nParents Session: 10:00 AM – 2:00 PM (snacks and lunch provided)\nMake-Up Session (All welcome): 3:00 PM – 4:30 PM (snacks provided)\n\nYour input is essential in shaping childcare services that reflect the needs of families in the community. \nThe Fine Print\nAttendees must be a member or staff associate of Lhoosk’uz Dené Nation. \nNo travel or accommodations will be provided.  \nOut-of-town members will be emailed the survey.
URL:https://lhooskuz.com/event/childcare-engagement-session-parents-make-up-session/
LOCATION:Lhoosk’uz Dene Nation Band Office\, 227 Anderson Dr\, Quesnel\, BC\, V2J 1E9\, Canada
CATEGORIES:Community Outreach
ATTACH;FMTTYPE=image/png:https://lhooskuz.com/wp-content/uploads/2026/04/Screenshot-2026-04-10-144057.png
END:VEVENT
BEGIN:VEVENT
DTSTART;TZID=America/Vancouver:20260429T113000
DTEND;TZID=America/Vancouver:20260429T133000
DTSTAMP:20260425T034809
CREATED:20260324T183423Z
LAST-MODIFIED:20260324T183423Z
UID:4254-1777462200-1777469400@lhooskuz.com
SUMMARY:On the Menu: Taco Soup and Quesadillas
DESCRIPTION:Today we’re serving: taco soup and quesadillas. \nThe kitchen is open today and members are welcome to drop in for a nourishing meal and good company. \nUrban Kitchen is an informal gathering where members can stop by\, enjoy a meal\, and connect with others. No sign up required.
URL:https://lhooskuz.com/event/on-the-menu-taco-soup-and-quesadillas/
LOCATION:QDEES\, 103-231 Anderson Dr.\, Quesnel\, British Columbia\, Canada
CATEGORIES:Urban Kitchen
ATTACH;FMTTYPE=image/png:https://lhooskuz.com/wp-content/uploads/2026/03/LDN-Urban-Kitchen.png
ORGANIZER;CN="Urban Kitchen":MAILTO:urbankitchen@lhooskuz.com
END:VEVENT
BEGIN:VEVENT
DTSTART;TZID=America/Vancouver:20260429T160000
DTEND;TZID=America/Vancouver:20260429T190000
DTSTAMP:20260425T034809
CREATED:20260410T221407Z
LAST-MODIFIED:20260410T221407Z
UID:4407-1777478400-1777489200@lhooskuz.com
SUMMARY:Blackwater Mine Community Open House
DESCRIPTION:Date: Wednesday\, April 29\, 2026Time: 4:00 p.m. – 7:00 p.m.Location: QDEES Office \nArtemis Gold Inc. invites community members to attend a Community Open House to learn more about the Blackwater Mine project. \nThis session is an opportunity to connect directly with Artemis Gold representatives and gain updates on key areas of the project\, including: \n\nMining operations\nReclamation planning\nEnvironmental monitoring\nBusiness and employment opportunities\nUpcoming project developments\n\nCommunity members are encouraged to attend\, ask questions\, and engage in open discussion about the project and its impact. \nDinner\, refreshments\, and door prizes will be provided.
URL:https://lhooskuz.com/event/blackwater-mine-community-open-house/
LOCATION:QDEES\, 103-231 Anderson Dr.\, Quesnel\, British Columbia\, Canada
CATEGORIES:Employment
ATTACH;FMTTYPE=image/png:https://lhooskuz.com/wp-content/uploads/2026/03/LDN-info-session-1.png
END:VEVENT
END:VCALENDAR