BEGIN:VCALENDAR
VERSION:2.0
PRODID:-//LHOOSK’UZ DENÉ NATION - ECPv6.15.20//NONSGML v1.0//EN
CALSCALE:GREGORIAN
METHOD:PUBLISH
X-ORIGINAL-URL:https://lhooskuz.com
X-WR-CALDESC:Events for LHOOSK’UZ DENÉ NATION
REFRESH-INTERVAL;VALUE=DURATION:PT1H
X-Robots-Tag:noindex
X-PUBLISHED-TTL:PT1H
BEGIN:VTIMEZONE
TZID:America/Vancouver
BEGIN:DAYLIGHT
TZOFFSETFROM:-0800
TZOFFSETTO:-0700
TZNAME:PDT
DTSTART:20250309T100000
END:DAYLIGHT
BEGIN:STANDARD
TZOFFSETFROM:-0700
TZOFFSETTO:-0800
TZNAME:PST
DTSTART:20251102T090000
END:STANDARD
BEGIN:DAYLIGHT
TZOFFSETFROM:-0800
TZOFFSETTO:-0700
TZNAME:PDT
DTSTART:20260308T100000
END:DAYLIGHT
BEGIN:STANDARD
TZOFFSETFROM:-0700
TZOFFSETTO:-0800
TZNAME:PST
DTSTART:20261101T090000
END:STANDARD
BEGIN:DAYLIGHT
TZOFFSETFROM:-0800
TZOFFSETTO:-0700
TZNAME:PDT
DTSTART:20270314T100000
END:DAYLIGHT
BEGIN:STANDARD
TZOFFSETFROM:-0700
TZOFFSETTO:-0800
TZNAME:PST
DTSTART:20271107T090000
END:STANDARD
END:VTIMEZONE
BEGIN:VEVENT
DTSTART;TZID=America/Vancouver:20260428T113000
DTEND;TZID=America/Vancouver:20260428T133000
DTSTAMP:20260423T020937
CREATED:20260324T183259Z
LAST-MODIFIED:20260324T183259Z
UID:4252-1777375800-1777383000@lhooskuz.com
SUMMARY:On the Menu: Hangover Soup and Pinwheel Wraps
DESCRIPTION:Today we’re serving: hangover soup and pinwheel wraps. \nThe kitchen is open today and members are welcome to drop in for a nourishing meal and good company. \nUrban Kitchen is an informal gathering where members can stop by\, enjoy a meal\, and connect with others. No sign up required.
URL:https://lhooskuz.com/event/on-the-menu-hangover-soup-and-pinwheel-wraps/
LOCATION:QDEES\, 103-231 Anderson Dr.\, Quesnel\, British Columbia\, Canada
CATEGORIES:Urban Kitchen
ATTACH;FMTTYPE=image/png:https://lhooskuz.com/wp-content/uploads/2026/03/LDN-Urban-Kitchen.png
ORGANIZER;CN="Urban Kitchen":MAILTO:urbankitchen@lhooskuz.com
END:VEVENT
BEGIN:VEVENT
DTSTART;TZID=America/Vancouver:20260428T120000
DTEND;TZID=America/Vancouver:20260428T140000
DTSTAMP:20260423T020937
CREATED:20260410T214616Z
LAST-MODIFIED:20260410T231648Z
UID:4391-1777377600-1777384800@lhooskuz.com
SUMMARY:Childcare Engagement Session – Community Session
DESCRIPTION:Date: April 28Location: On-reserve school \nJoin us for a community-wide childcare engagement session open to all members of Lhoosk’uz Dené Nation. \nFacilitated in partnership with the BC Aboriginal Child Care Society\, this session is designed to gather community input to guide future childcare programming and services. \nTime: 12:00 p.m. – 2:00 p.m.Details: Lunch will be provided. \nAll community members are encouraged to attend and contribute their perspectives. \nThe Fine Print\nAttendees must be a member or staff associate of Lhoosk’uz Dené Nation. \nNo travel or accommodations will be provided.  \nOut-of-town members will be emailed the survey.
URL:https://lhooskuz.com/event/childcare-engagement-session-community-session/
LOCATION:Kluskus
CATEGORIES:Community Outreach
ATTACH;FMTTYPE=image/png:https://lhooskuz.com/wp-content/uploads/2026/04/Screenshot-2026-04-10-144057.png
END:VEVENT
END:VCALENDAR