BEGIN:VCALENDAR
VERSION:2.0
PRODID:-//LHOOSK’UZ DENÉ NATION - ECPv6.15.20//NONSGML v1.0//EN
CALSCALE:GREGORIAN
METHOD:PUBLISH
X-ORIGINAL-URL:https://lhooskuz.com
X-WR-CALDESC:Events for LHOOSK’UZ DENÉ NATION
REFRESH-INTERVAL;VALUE=DURATION:PT1H
X-Robots-Tag:noindex
X-PUBLISHED-TTL:PT1H
BEGIN:VTIMEZONE
TZID:America/Vancouver
BEGIN:DAYLIGHT
TZOFFSETFROM:-0800
TZOFFSETTO:-0700
TZNAME:PDT
DTSTART:20250309T100000
END:DAYLIGHT
BEGIN:STANDARD
TZOFFSETFROM:-0700
TZOFFSETTO:-0800
TZNAME:PST
DTSTART:20251102T090000
END:STANDARD
BEGIN:DAYLIGHT
TZOFFSETFROM:-0800
TZOFFSETTO:-0700
TZNAME:PDT
DTSTART:20260308T100000
END:DAYLIGHT
BEGIN:STANDARD
TZOFFSETFROM:-0700
TZOFFSETTO:-0800
TZNAME:PST
DTSTART:20261101T090000
END:STANDARD
BEGIN:DAYLIGHT
TZOFFSETFROM:-0800
TZOFFSETTO:-0700
TZNAME:PDT
DTSTART:20270314T100000
END:DAYLIGHT
BEGIN:STANDARD
TZOFFSETFROM:-0700
TZOFFSETTO:-0800
TZNAME:PST
DTSTART:20271107T090000
END:STANDARD
END:VTIMEZONE
BEGIN:VEVENT
DTSTART;TZID=America/Vancouver:20260403T130000
DTEND;TZID=America/Vancouver:20260403T170000
DTSTAMP:20260423T031611
CREATED:20260402T150234Z
LAST-MODIFIED:20260402T150234Z
UID:4367-1775221200-1775235600@lhooskuz.com
SUMMARY:Easter Egg Hunt & Dinner
DESCRIPTION:Come out with your little ones! \nApril 3\, 20261:00 PM – 5:00 PM (NDN Time)Lhoosk’uz Dené Nation School (or possibly June’s house) \nWhat to Expect\nBring your little ones and enjoy the day with: \n\nEaster egg hunt\nBingo for kids\nGames and activities for both children and adults\nCommunity dinner and time to connect\n\nEveryone is Welcome\nPlease share this event with others and help spread the word!
URL:https://lhooskuz.com/event/easter-egg-hunt-dinner/
LOCATION:Kluskus
CATEGORIES:Community
ATTACH;FMTTYPE=image/png:https://lhooskuz.com/wp-content/uploads/2026/04/Screenshot-2026-04-02-080031-1.png
END:VEVENT
END:VCALENDAR